BEGIN:VCALENDAR
VERSION:2.0
PRODID:-//Ecoles de Noble-Contrée - ECPv6.13.2.1//NONSGML v1.0//EN
CALSCALE:GREGORIAN
METHOD:PUBLISH
X-WR-CALNAME:Ecoles de Noble-Contrée
X-ORIGINAL-URL:https://ecolesnoblecontree.ch
X-WR-CALDESC:Évènements pour Ecoles de Noble-Contrée
REFRESH-INTERVAL;VALUE=DURATION:PT1H
X-Robots-Tag:noindex
X-PUBLISHED-TTL:PT1H
BEGIN:VTIMEZONE
TZID:Europe/Paris
BEGIN:DAYLIGHT
TZOFFSETFROM:+0100
TZOFFSETTO:+0200
TZNAME:CEST
DTSTART:20240331T010000
END:DAYLIGHT
BEGIN:STANDARD
TZOFFSETFROM:+0200
TZOFFSETTO:+0100
TZNAME:CET
DTSTART:20241027T010000
END:STANDARD
END:VTIMEZONE
BEGIN:VEVENT
DTSTART;VALUE=DATE:20241112
DTEND;VALUE=DATE:20241113
DTSTAMP:20260422T032922
CREATED:20241024T175018Z
LAST-MODIFIED:20241104T112008Z
UID:1131-1731369600-1731455999@ecolesnoblecontree.ch
SUMMARY:Sortie d'école
DESCRIPTION:Ma description \n 
URL:https://ecolesnoblecontree.ch/event/sortie-decole/
CATEGORIES:Sorties
ATTACH;FMTTYPE=image/jpeg:https://ecolesnoblecontree.ch/wp-content/uploads/2019/01/c10.jpg
END:VEVENT
END:VCALENDAR