BEGIN:VCALENDAR
VERSION:2.0
PRODID:-//Ecoles de Noble-Contrée - ECPv6.13.2.1//NONSGML v1.0//EN
CALSCALE:GREGORIAN
METHOD:PUBLISH
X-WR-CALNAME:Ecoles de Noble-Contrée
X-ORIGINAL-URL:https://ecolesnoblecontree.ch
X-WR-CALDESC:Évènements pour Ecoles de Noble-Contrée
REFRESH-INTERVAL;VALUE=DURATION:PT1H
X-Robots-Tag:noindex
X-PUBLISHED-TTL:PT1H
BEGIN:VTIMEZONE
TZID:Europe/Paris
BEGIN:DAYLIGHT
TZOFFSETFROM:+0100
TZOFFSETTO:+0200
TZNAME:CEST
DTSTART:20260329T010000
END:DAYLIGHT
BEGIN:STANDARD
TZOFFSETFROM:+0200
TZOFFSETTO:+0100
TZNAME:CET
DTSTART:20261025T010000
END:STANDARD
END:VTIMEZONE
BEGIN:VEVENT
DTSTART;TZID=Europe/Paris:20260108T080000
DTEND;TZID=Europe/Paris:20260109T170000
DTSTAMP:20260421T111539
CREATED:20251010T152049Z
LAST-MODIFIED:20251010T152049Z
UID:8270-1767859200-1767978000@ecolesnoblecontree.ch
SUMMARY:Camp de ski pour les 6-8H de l'école de Veyras (encadré par l'école)
DESCRIPTION:08-09 janvier 2026
URL:https://ecolesnoblecontree.ch/event/camp-de-ski-pour-les-6-8h-de-lecole-de-veyras-encadre-par-lecole/
CATEGORIES:Évènements,Sorties
ATTACH;FMTTYPE=image/jpeg:https://ecolesnoblecontree.ch/wp-content/uploads/2025/10/ecole-de-ski.jpg
END:VEVENT
BEGIN:VEVENT
DTSTART;TZID=Europe/Paris:20260110T080000
DTEND;TZID=Europe/Paris:20260111T170000
DTSTAMP:20260421T111539
CREATED:20251010T152232Z
LAST-MODIFIED:20251010T152235Z
UID:8273-1768032000-1768150800@ecolesnoblecontree.ch
SUMMARY:Prolongement du camp de ski pour les 6-7-8H de l'école de Veyras (encadré par le ski club de Veyras)
DESCRIPTION:
URL:https://ecolesnoblecontree.ch/event/prolongement-du-camp-de-ski-pour-les-6-7-8h-de-lecole-de-veyras-encadre-par-le-ski-club-de-veyras/
CATEGORIES:Évènements,Sorties
ATTACH;FMTTYPE=image/jpeg:https://ecolesnoblecontree.ch/wp-content/uploads/2025/10/ecole-de-ski.jpg
END:VEVENT
BEGIN:VEVENT
DTSTART;TZID=Europe/Paris:20260113T080000
DTEND;TZID=Europe/Paris:20260116T170000
DTSTAMP:20260421T111539
CREATED:20251010T151854Z
LAST-MODIFIED:20251010T151854Z
UID:8267-1768291200-1768582800@ecolesnoblecontree.ch
SUMMARY:Journées de ski pour l'école de Veyras
DESCRIPTION:13\, 15\, et 16 janvier 2026 (19 janvier 2026 sous réserve) pour les 3-4-5-7H
URL:https://ecolesnoblecontree.ch/event/journees-de-ski-pour-lecole-de-veyras/
CATEGORIES:Évènements,Sorties
ATTACH;FMTTYPE=image/jpeg:https://ecolesnoblecontree.ch/wp-content/uploads/2025/10/ecole-de-ski.jpg
END:VEVENT
BEGIN:VEVENT
DTSTART;TZID=Europe/Paris:20260122T080000
DTEND;TZID=Europe/Paris:20260123T170000
DTSTAMP:20260421T111539
CREATED:20251010T151454Z
LAST-MODIFIED:20251010T151454Z
UID:8263-1769068800-1769187600@ecolesnoblecontree.ch
SUMMARY:Journées de ski pour l'école de Venthône
DESCRIPTION:le 20\,22 et 23 janvier (le 26 janvier 2026 en réserve) pour les 3-4-5-6-7-8H
URL:https://ecolesnoblecontree.ch/event/journees-de-ski-pour-lecole-de-venthone/
CATEGORIES:Évènements,Sorties
ATTACH;FMTTYPE=image/jpeg:https://ecolesnoblecontree.ch/wp-content/uploads/2025/10/ecole-de-ski.jpg
END:VEVENT
BEGIN:VEVENT
DTSTART;VALUE=DATE:20260130
DTEND;VALUE=DATE:20260131
DTSTAMP:20260421T111539
CREATED:20260123T152845Z
LAST-MODIFIED:20260129T103027Z
UID:8581-1769731200-1769817599@ecolesnoblecontree.ch
SUMMARY:Coupe du monde de descente des femmes
DESCRIPTION:
URL:https://ecolesnoblecontree.ch/event/coupe-du-monde-de-descente-homme/
LOCATION:Crans Montana\, Piste de la National\, Crans Montana
CATEGORIES:Évènements,Sorties
ATTACH;FMTTYPE=image/jpeg:https://ecolesnoblecontree.ch/wp-content/uploads/2026/01/coup-du-monde-crans-montana-2026.jpg
END:VEVENT
END:VCALENDAR