BEGIN:VCALENDAR
VERSION:2.0
PRODID:-//Ecoles de Noble-Contrée - ECPv6.13.2.1//NONSGML v1.0//EN
CALSCALE:GREGORIAN
METHOD:PUBLISH
X-ORIGINAL-URL:https://ecolesnoblecontree.ch
X-WR-CALDESC:Évènements pour Ecoles de Noble-Contrée
REFRESH-INTERVAL;VALUE=DURATION:PT1H
X-Robots-Tag:noindex
X-PUBLISHED-TTL:PT1H
BEGIN:VTIMEZONE
TZID:Europe/Paris
BEGIN:DAYLIGHT
TZOFFSETFROM:+0100
TZOFFSETTO:+0200
TZNAME:CEST
DTSTART:20240331T010000
END:DAYLIGHT
BEGIN:STANDARD
TZOFFSETFROM:+0200
TZOFFSETTO:+0100
TZNAME:CET
DTSTART:20241027T010000
END:STANDARD
END:VTIMEZONE
BEGIN:VEVENT
DTSTART;TZID=Europe/Paris:20241111T080000
DTEND;TZID=Europe/Paris:20241111T113000
DTSTAMP:20260422T015433
CREATED:20241024T191745Z
LAST-MODIFIED:20241024T191745Z
UID:1151-1731312000-1731324600@ecolesnoblecontree.ch
SUMMARY:Sortie culturelle
DESCRIPTION:Les classes de 5H\, 6H\, 7H et 8H iront faire la flânerie des Artistes accompagnées de leurs professeurs.
URL:https://ecolesnoblecontree.ch/event/sortie-culturelle/
CATEGORIES:Sorties
ATTACH;FMTTYPE=image/jpeg:https://ecolesnoblecontree.ch/wp-content/uploads/2018/03/news3.jpg
END:VEVENT
BEGIN:VEVENT
DTSTART;VALUE=DATE:20241112
DTEND;VALUE=DATE:20241113
DTSTAMP:20260422T015433
CREATED:20241024T175018Z
LAST-MODIFIED:20241104T112008Z
UID:1131-1731369600-1731455999@ecolesnoblecontree.ch
SUMMARY:Sortie d'école
DESCRIPTION:Ma description \n 
URL:https://ecolesnoblecontree.ch/event/sortie-decole/
CATEGORIES:Sorties
ATTACH;FMTTYPE=image/jpeg:https://ecolesnoblecontree.ch/wp-content/uploads/2019/01/c10.jpg
END:VEVENT
BEGIN:VEVENT
DTSTART;TZID=Europe/Paris:20241122T140000
DTEND;TZID=Europe/Paris:20241122T163000
DTSTAMP:20260422T015433
CREATED:20241121T101833Z
LAST-MODIFIED:20241121T101909Z
UID:1403-1732284000-1732293000@ecolesnoblecontree.ch
SUMMARY:Sortie cinéma
DESCRIPTION:Sauvage par Claude Barras.
URL:https://ecolesnoblecontree.ch/event/sortie-cinema/
LOCATION:Cinéma du Casino\, Av. du Général Guisan 19\, Sierre\, 3960\, Switzerland
CATEGORIES:Sorties
ATTACH;FMTTYPE=image/jpeg:https://ecolesnoblecontree.ch/wp-content/uploads/2024/11/Sauvages-affiche.jpeg
END:VEVENT
END:VCALENDAR