BEGIN:VCALENDAR
VERSION:2.0
PRODID:-//Ecoles de Noble-Contrée - ECPv6.13.2.1//NONSGML v1.0//EN
CALSCALE:GREGORIAN
METHOD:PUBLISH
X-WR-CALNAME:Ecoles de Noble-Contrée
X-ORIGINAL-URL:https://ecolesnoblecontree.ch
X-WR-CALDESC:Évènements pour Ecoles de Noble-Contrée
REFRESH-INTERVAL;VALUE=DURATION:PT1H
X-Robots-Tag:noindex
X-PUBLISHED-TTL:PT1H
BEGIN:VTIMEZONE
TZID:Europe/Paris
BEGIN:DAYLIGHT
TZOFFSETFROM:+0100
TZOFFSETTO:+0200
TZNAME:CEST
DTSTART:20260329T010000
END:DAYLIGHT
BEGIN:STANDARD
TZOFFSETFROM:+0200
TZOFFSETTO:+0100
TZNAME:CET
DTSTART:20261025T010000
END:STANDARD
END:VTIMEZONE
BEGIN:VEVENT
DTSTART;TZID=Europe/Paris:20260420T081000
DTEND;TZID=Europe/Paris:20260420T081000
DTSTAMP:20260420T122058
CREATED:20260126T083315Z
LAST-MODIFIED:20260126T083705Z
UID:8603-1776672600-1776672600@ecolesnoblecontree.ch
SUMMARY:Cours SIPE 8H Veyras
DESCRIPTION:
URL:https://ecolesnoblecontree.ch/event/cours-sipe-8h-veyras/
LOCATION:Centre scolaire de Veyras\, Charles-Clos Olsommer 9\, Veyras\, Valais\, 3968\, Switzerland
CATEGORIES:Évènements
ATTACH;FMTTYPE=image/jpeg:https://ecolesnoblecontree.ch/wp-content/uploads/2026/01/Papillon-SIPE.jpg
END:VEVENT
BEGIN:VEVENT
DTSTART;TZID=Europe/Paris:20260420T133000
DTEND;TZID=Europe/Paris:20260420T143000
DTSTAMP:20260420T122058
CREATED:20260126T083427Z
LAST-MODIFIED:20260126T083642Z
UID:8606-1776691800-1776695400@ecolesnoblecontree.ch
SUMMARY:Cours SIPE 2H Veyras
DESCRIPTION:
URL:https://ecolesnoblecontree.ch/event/cours-sipe-2h-veyras/
LOCATION:Centre scolaire de Veyras\, Charles-Clos Olsommer 9\, Veyras\, Valais\, 3968\, Switzerland
CATEGORIES:Évènements
ATTACH;FMTTYPE=image/jpeg:https://ecolesnoblecontree.ch/wp-content/uploads/2026/01/Papillon-SIPE.jpg
END:VEVENT
BEGIN:VEVENT
DTSTART;TZID=Europe/Paris:20260420T150500
DTEND;TZID=Europe/Paris:20260420T160500
DTSTAMP:20260420T122058
CREATED:20260126T083602Z
LAST-MODIFIED:20260126T083602Z
UID:8608-1776697500-1776701100@ecolesnoblecontree.ch
SUMMARY:Cours SIPE 2H Miège
DESCRIPTION:
URL:https://ecolesnoblecontree.ch/event/cours-sipe-2h-miege/
LOCATION:Centre scolaire de Miège\, Rte de la Barmette 1BIS\, Miège\, Valais\, 3972\, Switzerland
CATEGORIES:Évènements
ATTACH;FMTTYPE=image/jpeg:https://ecolesnoblecontree.ch/wp-content/uploads/2026/01/Papillon-SIPE.jpg
END:VEVENT
END:VCALENDAR